Workbook

Sheet Resumo
B1: RESUMO
C2: Mínimo | D2: Média | E2: Mediana | F2: Média Aparada
B3: ='Eventos_IRP '!D3 -> GRUPO I - ALIMENTAÇÃO E BEBIDAS | C3: ='Eventos_IRP '!BJ24 -> 2335465.5 | D3: ='Eventos_IRP '!BK24 -> 5688590.2 | E3: ='Eventos_IRP '!BL24 -> 4102318 | F3: ='Eventos_IRP '!N24 -> 7870940.2
B4: ='Eventos_IRP '!D25 -> GRUPO II - INSTALAÇÕES | C4: ='Eventos_IRP '!BJ47 -> 1710561.5 | D4: ='Eventos_IRP '!BK47 -> 9115799 | E4: ='Eventos_IRP '!BL47 -> 5248571.5 | F4: ='Eventos_IRP '!N47 -> 8832104.2
B5: ='Eventos_IRP '!D48 -> GRUPO III - COMUNICAÇÃO VISUAL | C5: ='Eventos_IRP '!BJ55 -> 348126 | D5: ='Eventos_IRP '!BK55 -> 1131262 | E5: ='Eventos_IRP '!BL55 -> 1074263 | F5: ='Eventos_IRP '!N55 -> 1528846.7
B6: ='Eventos_IRP '!D56 -> GRUPO IV - EQUIPAMENTOS | C6: ='Eventos_IRP '!BJ86 -> 667709.9 | D6: ='Eventos_IRP '!BK86 -> 3643129 | E6: ='Eventos_IRP '!BL86 -> 2479716.1 | F6: ='Eventos_IRP '!N86 -> 4139715.4
B7: ='Eventos_IRP '!D87 -> GRUPO V - INFRA AUDIOVISUAL | C7: ='Eventos_IRP '!BJ141 -> 3946180.7 | D7: ='Eventos_IRP '!BK141 -> 24174000 | E7: ='Eventos_IRP '!BL141 -> 11647764 | F7: ='Eventos_IRP '!N141 -> 18354356
B8: ='Eventos_IRP '!D142 -> GRUPO VI - INSUMOS GRÁFICOS | C8: ='Eventos_IRP '!BJ167 -> 1354516 | D8: ='Eventos_IRP '!BK167 -> 5170900.1 | E8: ='Eventos_IRP '!BL167 -> 3351970 | F8: ='Eventos_IRP '!N167 -> 9504101.5
B9: ='Eventos_IRP '!D168 -> GRUPO VII - MOBILIÁRIO | C9: ='Eventos_IRP '!BJ227 -> 2079368 | D9: ='Eventos_IRP '!BK227 -> 9197293.9 | E9: ='Eventos_IRP '!BL227 -> 5385609.3 | F9: ='Eventos_IRP '!N227 -> 6873594.6
B10: ='Eventos_IRP '!D228 -> GRUPO VIII - ORNAMENTAÇÃO | C10: ='Eventos_IRP '!BJ252 -> 258324.28 | D10: ='Eventos_IRP '!BK252 -> 1071286.5 | E10: ='Eventos_IRP '!BL252 -> 752273.17 | F10: ='Eventos_IRP '!N252 -> 1268896.5
B11: ='Eventos_IRP '!D253 -> GRUPO IX - PRODUÇÃO | C11: ='Eventos_IRP '!BJ265 -> 4159924.6 | D11: ='Eventos_IRP '!BK265 -> 27238197 | E11: ='Eventos_IRP '!BL265 -> 14258207 | F11: ='Eventos_IRP '!N265 -> 16428202
B12: ='Eventos_IRP '!D266 -> GRUPO X- RECURSOS HUMANOS | C12: ='Eventos_IRP '!BJ289 -> 968973.94 | D12: ='Eventos_IRP '!BK289 -> 3664757.7 | E12: ='Eventos_IRP '!BL289 -> 2434752.2 | F12: ='Eventos_IRP '!N289 -> 4419781.2
B13: ='Eventos_IRP '!D290 -> GRUPO XI - TECNOLOGIA | C13: ='Eventos_IRP '!BJ311 -> 2878456.7 | D13: ='Eventos_IRP '!BK311 -> 9110222.1 | E13: ='Eventos_IRP '!BL311 -> 4970652.8 | F13: ='Eventos_IRP '!N311 -> 6161508.1
B14: ='Eventos_IRP '!D312 -> GRUPO XII - TRANSPORTES | C14: ='Eventos_IRP '!BJ320 -> 150900 | D14: ='Eventos_IRP '!BK320 -> 467407.7 | E14: ='Eventos_IRP '!BL320 -> 321187.5 | F14: ='Eventos_IRP '!N320 -> 706825.82
B15: ='Eventos_IRP '!D321 -> GRUPO XIII - SERVIÇOS EVENTUAIS | C15: ='Eventos_IRP '!$N$323 -> 5625641 | D15: ='Eventos_IRP '!$N$323 -> 5625641 | E15: ='Eventos_IRP '!$N$323 -> 5625641 | F15: ='Eventos_IRP '!$N$323 -> 5625641
B16: TOTAL | C16: =SUM(C3:C15) -> 26484148 | D16: =SUM(D3:D15) -> 1.0529849e+08 | E16: =SUM(E3:E15) -> 61652926 | F16: =SUM(F3:F15) -> 91714513
B18: ='UASG 160060'!F2 -> UASG 160060 | C18: ='UASG 160060'!I1 -> 1180552.2
B19: ='UASG 389087'!F2 -> UASG 389087 | C19: ='UASG 389087'!I1 -> 13630247
B20: ='UASG 389092'!F2 -> UASG 389092 | C20: ='UASG 389092'!I1 -> 702395.5
B21: ='UASG 926265'!F2 -> UASG 926265 | C21: ='UASG 926265'!I1 -> 727952.39
B22: ='UASG 389086'!F2 -> UASG 389086 | C22: ='UASG 389086'!I1 -> 8759250.7
B23: TOTAL | C23: =SUM(C18:C22) -> 25000398

Sheet Eventos_IRP 
D1: PLANILHA ESTIMATIVA DE PREÇOS | M1: VALOR TOTAL | N1: =N24+N47+N55+N86+N141+N167+N227+N252+N265+N289+N311+N320+N323 -> 91714513
A2: ITEM | B2: GRUPO | C2: TIPO DE SERVIÇO OU PRODUTO | D2: ESPECIFICAÇÕES DETALHADAS | E2: UNIDADE | F2: QUANTIDADE CONFEA | G2: UASG 160060 | H2: UASG 389087 | I2: UASG 389092 | J2: UASG 926265 | K2: UASG 389086 | L2: QUANTIDADE TOTAL | M2: VALOR UNITÁRIO | N2: VALOR TOTAL | O2: CATMAT | P2: QUANT. | Q2: CONTRATO TCU | T2: ARP MIN. COMUNICAÇÕES | W2: ARP MIN. DO TRABALHO E EMPREGO | Z2: CONTRATO CGU | AC2: ARP MIN. DAS CIDADES | AF2: ARP POLÍCIA FEDERAL | AI2: ARP CONSELHO FEDERAL DE ENFERMAGEM - COFEN | AL2: ARP MGI | AO2: ARP MDH | AR2: PROPOSTA IMPACTO PRODUTORA | AU2: PROPOSTA GRUPO RG | AX2: PROPOSTA RD7 | BA2: PROPOSTA AGOGÔ | BE2: Valor unitário | BK2: Valor total
D3: GRUPO I - ALIMENTAÇÃO E BEBIDAS | O3: CATSER | Q3: ITEM DO CONTRATO | R3: VALOR UNITÁRIO | S3: VALOR TOTAL | T3: ITEM DO ARP nº 2/2025 | U3: VALOR UNITÁRIO | V3: VALOR TOTAL | W3: ITEM DO ARP nº 2/2025 | X3: VALOR UNITÁRIO | Y3: VALOR TOTAL | Z3: ITEM DO CONTRATO | AA3: VALOR UNITÁRIO | AB3: VALOR TOTAL | AC3: ITEM DO ARP nº 8/2025 | AD3: VALOR UNITÁRIO | AE3: VALOR TOTAL | AF3: ITEM DO ARP nº 9/2025 | AG3: VALOR UNITÁRIO | AH3: VALOR TOTAL | AI3: ITEM DO ARP nº 10/2025 | AJ3: VALOR UNITÁRIO | AK3: VALOR TOTAL | AL3: ITEM DO ARP nº 11/2025 | AM3: VALOR UNITÁRIO | AN3: VALOR TOTAL | AO3: ITEM DO ARP nº 01/2026 | AP3: VALOR UNITÁRIO | AQ3: VALOR TOTAL | AR3: ITEM | AS3: VALOR UNITÁRIO | AT3: VALOR TOTAL | AU3: ITEM | AV3: VALOR UNITÁRIO | AW3: VALOR TOTAL | AX3: ITEM | AY3: VALOR UNITÁRIO | AZ3: VALOR TOTAL | BA3: ITEM | BB3: VALOR UNITÁRIO | BC3: VALOR TOTAL | BE3: Mínimo | BF3: Média | BG3: Mediana | BH3: Máximo | BJ3: Mínimo | BK3: Média | BL3: Mediana | BM3: Média Aparada
A4: 1 | B4: ALIMENTAÇÃO E BEBIDAS | C4: Água mineral - copo 200 ml | D4: Fornecimento de água mineral em copo individual de 200 ml. OBSERVAÇÃO: A água deverá estar gelada, bandejas para atendimento a mesas diretoras e salas de apoio pelo período do evento. | E4: UNIDADE | F4: 25000 | K4: 2400 | L4: =SUM(F4:K4) -> 27400 | M4: 4.73 | N4: =L4*M4 -> 129602 | O4: 445484 | P4: 25000 | Q4: Não tem | S4: =R4*P4 -> 0 | T4: 284 | U4: 3 | V4: =U4*P4 -> 75000 | W4: Não tem | Y4: =X4*P4 -> 0 | Z4: Não tem | AB4: =AA4*P4 -> 0 | AC4: 121 | AD4: 2.58 | AE4: =AD4*P4 -> 64500 | AF4: Não tem | AH4: =AG4*P4 -> 0 | AI4: Não tem | AK4: =AJ4*P4 -> 0 | AL4: Não tem | AN4: =AM4*P4 -> 0 | AO4: Não tem | AQ4: =AP4*P4 -> 0 | AR4: 1 | AS4: 4.9 | AT4: =AS4*P4 -> 122500 | AU4: 1 | AV4: 8 | AW4: =AV4*F4 -> 200000 | AX4: 1 | AY4: 6.5 | AZ4: =AY4*F4 -> 162500 | BA4: 1 | BB4: 4.52 | BC4: =BB4*F4 -> 113000 | BE4: =MIN(AP4,AM4,AJ4,AG4,AD4,AA4,X4,U4,R4,AS4,AV4,AY4,BB4) -> 2.58 | BF4: =AVERAGE(AP4,AM4,AJ4,AG4,AD4,AA4,X4,U4,R4,AS4,AV4,AY4,BB4) -> 4.9166667 | BG4: =MEDIAN(AP4,AM4,AJ4,AG4,AD4,AA4,X4,U4,R4,AS4,AV4,AY4,BB4) -> 4.71 | BH4: =MAX(AP4,AM4,AJ4,AG4,AD4,AA4,X4,U4,R4,AS4,AV4,AY4,BB4) -> 8 | BJ4: =BE4*$P4 -> 64500 | BK4: =BF4*$P4 -> 122916.67 | BL4: =BG4*$P4 -> 117750 | BM4: =(SUM(R4,U4,X4,AA4,AD4,AG4,AJ4,AM4,AP4,AS4,AV4,AY4,BB4)-MAX(R4,U4,X4,AA4,AD4,AG4,AJ4,AM4,AP4,AS4,AV4,AY4,BB4)-MIN(R4,U4,X4,AA4,AD4,AG4,AJ4,AM4,AP4,AS4,AV4,AY4,BB4))/(COUNT(R4,U4,X4,AA4,AD4,AG4,AJ4,AM4,AP4,AS4,AV4,AY4,BB4)-2) -> 4.73
A5: 2 | B5: ALIMENTAÇÃO E BEBIDAS | C5: Água mineral – Garrafão 20 litros | D5: Fornecimento de garrafão de água mineral com capacidade de 20 litros, devidamente lacrado e apropriado para consumo, destinado ao abastecimento de bebedouros ou utilização em pontos de apoio durante a realização do evento, conforme demanda e quantitativo definido pelo contratante. OBSERVAÇÃO: Deve acompanhar porta copo ou mobiliário de apoio. Ver item "Bebedouro". | E5: UNIDADE | F5: 2450 | H5: 400 | K5: 20 | L5: =SUM(F5:K5) -> 2870 | M5: 35.68 | N5: =L5*M5 -> 102401.6 | O5: 445485 | P5: 2450 | Q5: Não tem | S5: =R5*P5 -> 0 | T5: Não tem | V5: =U5*P5 -> 0 | W5: 579 | X5: 30 | Y5: =X5*P5 -> 73500 | Z5: 4.9 | AA5: 20 | AB5: =AA5*P5 -> 49000 | AC5: Não tem | AE5: =AD5*P5 -> 0 | AF5: 2 | AG5: 21 | AH5: =AG5*P5 -> 51450 | AI5: 98 | AJ5: 23.39 | AK5: =AJ5*P5 -> 57305.5 | AL5: Não tem | AN5: =AM5*P5 -> 0 | AO5: 4.2 | AP5: 15 | AQ5: =AP5*P5 -> 36750 | AR5: 2 | AS5: 44.8 | AT5: =AS5*P5 -> 109760 | AU5: 2 | AV5: 120 | AW5: =AV5*F5 -> 294000 | AX5: 2 | AY5: 75 | AZ5: =AY5*F5 -> 183750 | BA5: 2 | BB5: 35.54 | BC5: =BB5*F5 -> 87073 | BE5: =MIN(AP5,AM5,AJ5,AG5,AD5,AA5,X5,U5,R5,AS5,AV5,AY5,BB5) -> 15 | BF5: =AVERAGE(AP5,AM5,AJ5,AG5,AD5,AA5,X5,U5,R5,AS5,AV5,AY5,BB5) -> 42.747778 | BG5: =MEDIAN(AP5,AM5,AJ5,AG5,AD5,AA5,X5,U5,R5,AS5,AV5,AY5,BB5) -> 30 | BH5: =MAX(AP5,AM5,AJ5,AG5,AD5,AA5,X5,U5,R5,AS5,AV5,AY5,BB5) -> 120 | BJ5: =BE5*$P5 -> 36750 | BK5: =BF5*$P5 -> 104732.06 | BL5: =BG5*$P5 -> 73500 | BM5: =(SUM(R5,U5,X5,AA5,AD5,AG5,AJ5,AM5,AP5,AS5,AV5,AY5,BB5)-MAX(R5,U5,X5,AA5,AD5,AG5,AJ5,AM5,AP5,AS5,AV5,AY5,BB5)-MIN(R5,U5,X5,AA5,AD5,AG5,AJ5,AM5,AP5,AS5,AV5,AY5,BB5))/(COUNT(R5,U5,X5,AA5,AD5,AG5,AJ5,AM5,AP5,AS5,AV5,AY5,BB5)-2) -> 35.675714
A6: 3 | B6: ALIMENTAÇÃO E BEBIDAS | C6: Água mineral com gás – 500 ml | D6: Fornecimento de água mineral natural com gás, acondicionada em garrafa individual de 500 ml, devidamente lacrada e própria para consumo humano, atendendo às normas sanitárias vigentes. OBSERVAÇÃO: A água deverá estar gelada, bandejas para atendimento a mesas diretoras e salas de apoio pelo período do evento. | E6: UNIDADE | F6: 12300 | H6: 500 | K6: 1200 | L6: =SUM(F6:K6) -> 14000 | M6: 6.86 | N6: =L6*M6 -> 96040 | O6: 445479 | P6: 12300 | Q6: Não tem | S6: =R6*P6 -> 0 | T6: 276 | U6: 3 | V6: =U6*P6 -> 36900 | W6: 578 | X6: 2.55 | Y6: =X6*P6 -> 31365 | Z6: Não tem | AB6: =AA6*P6 -> 0 | AC6: 121 | AD6: 2.58 | AE6: =AD6*P6 -> 31734 | AF6: Não tem | AH6: =AG6*P6 -> 0 | AI6: Não tem | AK6: =AJ6*P6 -> 0 | AL6: Não tem | AN6: =AM6*P6 -> 0 | AO6: Não tem | AQ6: =AP6*P6 -> 0 | AR6: 3 | AS6: 7.7 | AT6: =AS6*P6 -> 94710 | AU6: 3 | AV6: 12 | AW6: =AV6*F6 -> 147600 | AX6: 3 | AY6: 9 | AZ6: =AY6*F6 -> 110700 | BA6: 3 | BB6: 12.12 | BC6: =BB6*F6 -> 149076 | BE6: =MIN(AP6,AM6,AJ6,AG6,AD6,AA6,X6,U6,R6,AS6,AV6,AY6,BB6) -> 2.55 | BF6: =AVERAGE(AP6,AM6,AJ6,AG6,AD6,AA6,X6,U6,R6,AS6,AV6,AY6,BB6) -> 6.9928571 | BG6: =MEDIAN(AP6,AM6,AJ6,AG6,AD6,AA6,X6,U6,R6,AS6,AV6,AY6,BB6) -> 7.7 | BH6: =MAX(AP6,AM6,AJ6,AG6,AD6,AA6,X6,U6,R6,AS6,AV6,AY6,BB6) -> 12.12 | BJ6: =BE6*$P6 -> 31365 | BK6: =BF6*$P6 -> 86012.143 | BL6: =BG6*$P6 -> 94710 | BM6: =(SUM(R6,U6,X6,AA6,AD6,AG6,AJ6,AM6,AP6,AS6,AV6,AY6,BB6)-MAX(R6,U6,X6,AA6,AD6,AG6,AJ6,AM6,AP6,AS6,AV6,AY6,BB6)-MIN(R6,U6,X6,AA6,AD6,AG6,AJ6,AM6,AP6,AS6,AV6,AY6,BB6))/(COUNT(R6,U6,X6,AA6,AD6,AG6,AJ6,AM6,AP6,AS6,AV6,AY6,BB6)-2) -> 6.856
A7: 4 | B7: ALIMENTAÇÃO E BEBIDAS | C7: Água mineral sem gás – 500 ml | D7: Fornecimento de água mineral natural sem gás, acondicionada em garrafa individual de 500 ml, devidamente lacrada e apropriada para consumo humano, conforme padrões sanitários vigentes. OBSERVAÇÃO: A água deverá estar gelada, bandejas para atendimento a mesas diretoras e salas de apoio pelo período do evento. | E7: UNIDADE | F7: 39000 | H7: 1000 | K7: 2400 | L7: =SUM(F7:K7) -> 42400 | M7: 4.74 | N7: =L7*M7 -> 200976 | O7: 445484 | P7: 39000 | Q7: Não tem | S7: =R7*P7 -> 0 | T7: 276 | U7: 3 | V7: =U7*P7 -> 117000 | W7: 577 | X7: 2.5 | Y7: =X7*P7 -> 97500 | Z7: Não tem | AB7: =AA7*P7 -> 0 | AC7: 121 | AD7: 2.58 | AE7: =AD7*P7 -> 100620 | AF7: 1 | AG7: 3 | AH7: =AG7*P7 -> 117000 | AI7: 97 | AJ7: 1.62 | AK7: =AJ7*P7 -> 63180 | AL7: 106 | AM7: 0.47 | AN7: =AM7*P7 -> 18330 | AO7: 4.1 | AP7: 5 | AQ7: =AP7*P7 -> 195000 | AR7: 4 | AS7: 6.3 | AT7: =AS7*P7 -> 245700 | AU7: 4 | AV7: 12 | AW7: =AV7*F7 -> 468000 | AX7: 4 | AY7: 9 | AZ7: =AY7*F7 -> 351000 | BA7: 4 | BB7: 9.69 | BC7: =BB7*F7 -> 377910 | BE7: =MIN(AP7,AM7,AJ7,AG7,AD7,AA7,X7,U7,R7,AS7,AV7,AY7,BB7) -> 0.47 | BF7: =AVERAGE(AP7,AM7,AJ7,AG7,AD7,AA7,X7,U7,R7,AS7,AV7,AY7,BB7) -> 5.0145455 | BG7: =MEDIAN(AP7,AM7,AJ7,AG7,AD7,AA7,X7,U7,R7,AS7,AV7,AY7,BB7) -> 3 | BH7: =MAX(AP7,AM7,AJ7,AG7,AD7,AA7,X7,U7,R7,AS7,AV7,AY7,BB7) -> 12 | BJ7: =BE7*$P7 -> 18330 | BK7: =BF7*$P7 -> 195567.27 | BL7: =BG7*$P7 -> 117000 | BM7: =(SUM(R7,U7,X7,AA7,AD7,AG7,AJ7,AM7,AP7,AS7,AV7,AY7,BB7)-MAX(R7,U7,X7,AA7,AD7,AG7,AJ7,AM7,AP7,AS7,AV7,AY7,BB7)-MIN(R7,U7,X7,AA7,AD7,AG7,AJ7,AM7,AP7,AS7,AV7,AY7,BB7))/(COUNT(R7,U7,X7,AA7,AD7,AG7,AJ7,AM7,AP7,AS7,AV7,AY7,BB7)-2) -> 4.7433333
A8: 5 | B8: ALIMENTAÇÃO E BEBIDAS | C8: Almoço/Jantar em restaurante - Tipo 01 | D8: Em restaurante de padrão internacional, cardápio mínimo: 2 opções de entradas, saladas variadas, 2 opções de carne, 3 guarnições, 2 sobremesas. Bebidas não alcoólicas (água, suco ou refrigerante). Cafezinho expresso ou filtrado no final. Podendo o cardápio ser vegetariano. OBSERVAÇÃO: A CONTRATADA providenciará a alocação de equipes de empregados, bem como disponibilizará todo o material necessário para a realização dos serviços de alimentação, tais como: mesas, toalhas, copos, talheres, louças, sousplats, pratarias, balde de gelo, bandejas, réchauds, copos de vidro, xícaras, açúcar, adoçante e demais materiais necessários à prestação dos serviços), materiais de serviço e limpeza (guardanapos, gelo, caixa térmica, fornos, fogões, fritadeiras e outros), e os custos deverão estar inclusos nos preços. Toda a alimentação deverá estar de acordo com o guia de alimentação saudável e com a Portaria nº 1.274 de 07 de julho de 2016, do Ministério da Saúde. | E8: POR PESSOA | F8: 500 | H8: 500 | K8: 500 | L8: =SUM(F8:K8) -> 1500 | M8: 253.96 | N8: =L8*M8 -> 380940 | O8: 12807 | P8: 500 | Q8: 169 | R8: 336 | S8: =R8*P8 -> 168000 | T8: 270 | U8: 80 | V8: =U8*P8 -> 40000 | W8: Não tem | Y8: =X8*P8 -> 0 | Z8: 4.13 | AA8: 50 | AB8: =AA8*P8 -> 25000 | AC8: Não tem | AE8: =AD8*P8 -> 0 | AF8: Não tem | AH8: =AG8*P8 -> 0 | AI8: Não tem | AK8: =AJ8*P8 -> 0 | AL8: Não tem | AN8: =AM8*P8 -> 0 | AO8: Não tem | AQ8: =AP8*P8 -> 0 | AR8: 5 | AS8: 252 | AT8: =AS8*P8 -> 126000 | AU8: 5 | AV8: 370 | AW8: =AV8*F8 -> 185000 | AX8: 5 | AY8: 311 | AZ8: =AY8*F8 -> 155500 | BA8: 5 | BB8: 290.79 | BC8: =BB8*F8 -> 145395 | BE8: =MIN(AP8,AM8,AJ8,AG8,AD8,AA8,X8,U8,R8,AS8,AV8,AY8,BB8) -> 50 | BF8: =AVERAGE(AP8,AM8,AJ8,AG8,AD8,AA8,X8,U8,R8,AS8,AV8,AY8,BB8) -> 241.39857 | BG8: =MEDIAN(AP8,AM8,AJ8,AG8,AD8,AA8,X8,U8,R8,AS8,AV8,AY8,BB8) -> 290.79 | BH8: =MAX(AP8,AM8,AJ8,AG8,AD8,AA8,X8,U8,R8,AS8,AV8,AY8,BB8) -> 370 | BJ8: =BE8*$P8 -> 25000 | BK8: =BF8*$P8 -> 120699.29 | BL8: =BG8*$P8 -> 145395 | BM8: =(SUM(R8,U8,X8,AA8,AD8,AG8,AJ8,AM8,AP8,AS8,AV8,AY8,BB8)-MAX(R8,U8,X8,AA8,AD8,AG8,AJ8,AM8,AP8,AS8,AV8,AY8,BB8)-MIN(R8,U8,X8,AA8,AD8,AG8,AJ8,AM8,AP8,AS8,AV8,AY8,BB8))/(COUNT(R8,U8,X8,AA8,AD8,AG8,AJ8,AM8,AP8,AS8,AV8,AY8,BB8)-2) -> 253.958
A9: 6 | B9: ALIMENTAÇÃO E BEBIDAS | C9: Almoço/Jantar em restaurante - Tipo 02 | D9: Em restaurante de padrão internacional, cardápio mínimo: 2 opções de entradas, saladas variadas, 2 opções de carne, 3 guarnições, 2 sobremesas. Bebidas: Água mineral (com e sem gás), refrigerante (normal e zero), 2 opções de suco da fruta natural, cerveja ou chopp, vinho tinto e branco nacional de reconhecida qualidade. Cafezinho expresso ou filtrado no final. Podendo o cardápio ser vegetariano. OBSERVAÇÃO: A CONTRATADA providenciará a alocação de equipes de empregados, bem como disponibilizará todo o material necessário para a realização dos serviços de alimentação, tais como: mesas, toalhas, copos, talheres, louças, sousplats, pratarias, balde de gelo, bandejas, réchauds, copos de vidro, xícaras, açúcar, adoçante e demais materiais necessários à prestação dos serviços), materiais de serviço e limpeza (guardanapos, gelo, caixa térmica, fornos, fogões, fritadeiras e outros), e os custos deverão estar inclusos nos preços. Toda a alimentação deverá estar de acordo com o guia de alimentação saudável e com a Portaria nº 1.274 de 07 de julho de 2016, do Ministério da Saúde. | E9: POR PESSOA | F9: 500 | H9: 500 | K9: 500 | L9: =SUM(F9:K9) -> 1500 | M9: 353.97 | N9: =L9*M9 -> 530955 | O9: 12807 | P9: 500 | Q9: 170 | R9: 395 | S9: =R9*P9 -> 197500 | T9: Não tem | V9: =U9*P9 -> 0 | W9: 590 | X9: 250 | Y9: =X9*P9 -> 125000 | Z9: Não tem | AB9: =AA9*P9 -> 0 | AC9: Não tem | AE9: =AD9*P9 -> 0 | AF9: Não tem | AH9: =AG9*P9 -> 0 | AI9: Não tem | AK9: =AJ9*P9 -> 0 | AL9: 97 | AM9: 290.42 | AN9: =AM9*P9 -> 145210 | AO9: Não tem | AQ9: =AP9*P9 -> 0 | AR9: 6 | AS9: 364 | AT9: =AS9*P9 -> 182000 | AU9: 6 | AV9: 385 | AW9: =AV9*F9 -> 192500 | AX9: 6 | AY9: 375 | AZ9: =AY9*F9 -> 187500 | BA9: 6 | BB9: 355.41 | BC9: =BB9*F9 -> 177705 | BE9: =MIN(AP9,AM9,AJ9,AG9,AD9,AA9,X9,U9,R9,AS9,AV9,AY9,BB9) -> 250 | BF9: =AVERAGE(AP9,AM9,AJ9,AG9,AD9,AA9,X9,U9,R9,AS9,AV9,AY9,BB9) -> 344.97571 | BG9: =MEDIAN(AP9,AM9,AJ9,AG9,AD9,AA9,X9,U9,R9,AS9,AV9,AY9,BB9) -> 364 | BH9: =MAX(AP9,AM9,AJ9,AG9,AD9,AA9,X9,U9,R9,AS9,AV9,AY9,BB9) -> 395 | BJ9: =BE9*$P9 -> 125000 | BK9: =BF9*$P9 -> 172487.86 | BL9: =BG9*$P9 -> 182000 | BM9: =(SUM(R9,U9,X9,AA9,AD9,AG9,AJ9,AM9,AP9,AS9,AV9,AY9,BB9)-MAX(R9,U9,X9,AA9,AD9,AG9,AJ9,AM9,AP9,AS9,AV9,AY9,BB9)-MIN(R9,U9,X9,AA9,AD9,AG9,AJ9,AM9,AP9,AS9,AV9,AY9,BB9))/(COUNT(R9,U9,X9,AA9,AD9,AG9,AJ9,AM9,AP9,AS9,AV9,AY9,BB9)-2) -> 353.966
A10: 7 | B10: ALIMENTAÇÃO E BEBIDAS | C10: Almoço/Jantar em restaurante - Tipo 03 | D10: Em restaurante de padrão internacional, cardápio mínimo: couvert, 2 opções de entrada, 2 pratos principais (opções de peixe, carne nobre ou massa, com respectivas guarnições), saladas variadas, 3 opções de sobremesa. Bebidas: Água mineral (com e sem gás), refrigerante (normal e zero), 2 opções de suco da fruta natural, deverão ser servidos vinhos tintos e brancos, espumantes do tipo brut. Deverá ser oferecido com serviço à francesa ou à inglesa, de acordo com a conveniência do contratante. Cafezinho expresso ou filtrado no final. Podendo o cardápio ser vegetariano. OBSERVAÇÃO: A CONTRATADA providenciará a alocação de equipes de empregados, bem como disponibilizará todo o material necessário para a realização dos serviços de alimentação, tais como: mesas, toalhas, copos, talheres, louças, sousplats, pratarias, balde de gelo, bandejas, réchauds, copos de vidro, xícaras, açúcar, adoçante e demais materiais necessários à prestação dos serviços), materiais de serviço e limpeza (guardanapos, gelo, caixa térmica, fornos, fogões, fritadeiras e outros), e os custos deverão estar inclusos nos preços. Toda a alimentação deverá estar de acordo com o guia de alimentação saudável e com a Portaria nº 1.274 de 07 de julho de 2016, do Ministério da Saúde. | E10: POR PESSOA | F10: 500 | H10: 500 | K10: 500 | L10: =SUM(F10:K10) -> 1500 | M10: 473.59 | N10: =L10*M10 -> 710385 | O10: 12807 | P10: 500 | Q10: 171 | R10: 558 | S10: =R10*P10 -> 279000 | T10: Não tem | V10: =U10*P10 -> 0 | W10: Não tem | Y10: =X10*P10 -> 0 | Z10: Não tem | AB10: =AA10*P10 -> 0 | AC10: Não tem | AE10: =AD10*P10 -> 0 | AF10: Não tem | AH10: =AG10*P10 -> 0 | AI10: Não tem | AK10: =AJ10*P10 -> 0 | AL10: 98 | AM10: 385.4 | AN10: =AM10*P10 -> 192700 | AO10: Não tem | AQ10: =AP10*P10 -> 0 | AR10: 7 | AS10: 532 | AT10: =AS10*P10 -> 266000 | AU10: 7 | AV10: 430 | AW10: =AV10*F10 -> 215000 | AX10: 7 | AY10: 480 | AZ10: =AY10*F10 -> 240000 | BA10: 7 | BB10: 452.34 | BC10: =BB10*F10 -> 226170 | BE10: =MIN(AP10,AM10,AJ10,AG10,AD10,AA10,X10,U10,R10,AS10,AV10,AY10,BB10) -> 385.4 | BF10: =AVERAGE(AP10,AM10,AJ10,AG10,AD10,AA10,X10,U10,R10,AS10,AV10,AY10,BB10) -> 472.95667 | BG10: =MEDIAN(AP10,AM10,AJ10,AG10,AD10,AA10,X10,U10,R10,AS10,AV10,AY10,BB10) -> 466.17 | BH10: =MAX(AP10,AM10,AJ10,AG10,AD10,AA10,X10,U10,R10,AS10,AV10,AY10,BB10) -> 558 | BJ10: =BE10*$P10 -> 192700 | BK10: =BF10*$P10 -> 236478.33 | BL10: =BG10*$P10 -> 233085 | BM10: =(SUM(R10,U10,X10,AA10,AD10,AG10,AJ10,AM10,AP10,AS10,AV10,AY10,BB10)-MAX(R10,U10,X10,AA10,AD10,AG10,AJ10,AM10,AP10,AS10,AV10,AY10,BB10)-MIN(R10,U10,X10,AA10,AD10,AG10,AJ10,AM10,AP10,AS10,AV10,AY10,BB10))/(COUNT(R10,U10,X10,AA10,AD10,AG10,AJ10,AM10,AP10,AS10,AV10,AY10,BB10)-2) -> 473.585
A11: 8 | B11: ALIMENTAÇÃO E BEBIDAS | C11: Almoço/Jantar nas dependências do evento - Tipo 01 | D11: Prestação de serviço de alimentação do tipo buffet, com cardápio variado composto por: 2 opções de entradas, saladas variadas, 2 opções de carne, 3 guarnições, 2 sobremesas e bebidas não alcoólicas (água, suco ou refrigerante). Mesa de café filtrado e chá. Podendo o cardápio ser vegetariano. OBSERVAÇÃO: A CONTRATADA providenciará a alocação de equipes de empregados, bem como disponibilizará todo o material necessário para a realização dos serviços de alimentação, tais como: mesas, toalhas, copos, talheres, louças, sousplats, pratarias, balde de gelo, bandejas, réchauds, copos de vidro, xícaras, açúcar, adoçante e demais materiais necessários à prestação dos serviços), materiais de serviço e limpeza (guardanapos, gelo, caixa térmica, fornos, fogões, fritadeiras e outros), e os custos deverão estar inclusos nos preços. Toda a alimentação deverá estar de acordo com o guia de alimentação saudável e com a Portaria nº 1.274 de 07 de julho de 2016, do Ministério da Saúde. | E11: POR PESSOA | F11: 1600 | H11: 500 | K11: 800 | L11: =SUM(F11:K11) -> 2900 | M11: 145.6 | N11: =L11*M11 -> 422240 | O11: 12807 | P11: 1600 | Q11: 172 | R11: 257 | S11: =R11*P11 -> 411200 | T11: 278 | U11: 87 | V11: =U11*P11 -> 139200 | W11: 588 | X11: 90 | Y11: =X11*P11 -> 144000 | Z11: 4.2 | AA11: 60 | AB11: =AA11*P11 -> 96000 | AC11: 122 | AD11: 55 | AE11: =AD11*P11 -> 88000 | AF11: 6 | AG11: 95 | AH11: =AG11*P11 -> 152000 | AI11: 91 | AJ11: 75.21 | AK11: =AJ11*P11 -> 120336 | AL11: 93 | AM11: 62.43 | AN11: =AM11*P11 -> 99888 | AO11: 4.4 | AP11: 85 | AQ11: =AP11*P11 -> 136000 | AR11: 8 | AS11: 203 | AT11: =AS11*P11 -> 324800 | AU11: 8 | AV11: 372 | AW11: =AV11*F11 -> 595200 | AX11: 8 | AY11: 280 | AZ11: =AY11*F11 -> 448000 | BA11: 8 | BB11: 306.95 | BC11: =BB11*F11 -> 491120 | BE11: =MIN(AP11,AM11,AJ11,AG11,AD11,AA11,X11,U11,R11,AS11,AV11,AY11,BB11) -> 55 | BF11: =AVERAGE(AP11,AM11,AJ11,AG11,AD11,AA11,X11,U11,R11,AS11,AV11,AY11,BB11) -> 156.04538 | BG11: =MEDIAN(AP11,AM11,AJ11,AG11,AD11,AA11,X11,U11,R11,AS11,AV11,AY11,BB11) -> 90 | BH11: =MAX(AP11,AM11,AJ11,AG11,AD11,AA11,X11,U11,R11,AS11,AV11,AY11,BB11) -> 372 | BJ11: =BE11*$P11 -> 88000 | BK11: =BF11*$P11 -> 249672.62 | BL11: =BG11*$P11 -> 144000 | BM11: =(SUM(R11,U11,X11,AA11,AD11,AG11,AJ11,AM11,AP11,AS11,AV11,AY11,BB11)-MAX(R11,U11,X11,AA11,AD11,AG11,AJ11,AM11,AP11,AS11,AV11,AY11,BB11)-MIN(R11,U11,X11,AA11,AD11,AG11,AJ11,AM11,AP11,AS11,AV11,AY11,BB11))/(COUNT(R11,U11,X11,AA11,AD11,AG11,AJ11,AM11,AP11,AS11,AV11,AY11,BB11)-2) -> 145.59909
A12: 9 | B12: ALIMENTAÇÃO E BEBIDAS | C12: Almoço/Jantar nas dependências do evento - Tipo 02 | D12: Prestação de serviço de alimentação do tipo buffet, com cardápio variado composto por: couvert, 2 opções de entrada, saladas variadas, 2 pratos principais (opções de peixe, carne nobre ou massa, com respectivas guarnições), 3 opções de sobremesa. Bebidas: Água mineral (com e sem gás), refrigerante (normal e zero), 2 opções de suco da fruta natural. Poderá ser oferecido com serviço à francesa ou à inglesa, de acordo com a conveniência do contratante. Mesa de café filtrado e chá. Podendo o cardápio ser vegetariano. OBSERVAÇÃO: A contratada providenciará a alocação de equipes de empregados, bem como disponibilizará todo o material necessário para a realização dos serviços de alimentação, tais como: mesas, toalhas, copos, talheres, louças, sousplats, pratarias, balde de gelo, bandejas, réchauds, copos de vidro, xícaras, açúcar, adoçante e demais materiais necessários à prestação dos serviços), materiais de serviço e limpeza (guardanapos, gelo, caixa térmica, fornos, fogões, fritadeiras e outros), e os custos deverão estar inclusos nos preços. Toda a alimentação deverá estar de acordo com o guia de alimentação saudável e com a Portaria nº 1.274 de 07 de julho de 2016, do Ministério da Saúde. | E12: POR PESSOA | F12: 800 | H12: 100 | K12: 800 | L12: =SUM(F12:K12) -> 1700 | M12: 230.71 | N12: =L12*M12 -> 392207 | O12: 12807 | P12: 800 | Q12: 173 | R12: 350 | S12: =R12*P12 -> 280000 | T12: 279 | U12: 100 | V12: =U12*P12 -> 80000 | W12: 591 | X12: 197.67 | Y12: =X12*P12 -> 158136 | Z12: Não tem | AB12: =AA12*P12 -> 0 | AC12: 123 | AD12: 80 | AE12: =AD12*P12 -> 64000 | AF12: Não tem | AH12: =AG12*P12 -> 0 | AI12: 92 | AJ12: 130.57 | AK12: =AJ12*P12 -> 104456 | AL12: 94 | AM12: 90.4 | AN12: =AM12*P12 -> 72320 | AO12: Não tem | AQ12: =AP12*P12 -> 0 | AR12: 9 | AS12: 266 | AT12: =AS12*P12 -> 212800 | AU12: 9 | AV12: 386 | AW12: =AV12*F12 -> 308800 | AX12: 9 | AY12: 325 | AZ12: =AY12*F12 -> 260000 | BA12: 9 | BB12: 387.72 | BC12: =BB12*F12 -> 310176 | BE12: =MIN(AP12,AM12,AJ12,AG12,AD12,AA12,X12,U12,R12,AS12,AV12,AY12,BB12) -> 80 | BF12: =AVERAGE(AP12,AM12,AJ12,AG12,AD12,AA12,X12,U12,R12,AS12,AV12,AY12,BB12) -> 231.336 | BG12: =MEDIAN(AP12,AM12,AJ12,AG12,AD12,AA12,X12,U12,R12,AS12,AV12,AY12,BB12) -> 231.835 | BH12: =MAX(AP12,AM12,AJ12,AG12,AD12,AA12,X12,U12,R12,AS12,AV12,AY12,BB12) -> 387.72 | BJ12: =BE12*$P12 -> 64000 | BK12: =BF12*$P12 -> 185068.8 | BL12: =BG12*$P12 -> 185468 | BM12: =(SUM(R12,U12,X12,AA12,AD12,AG12,AJ12,AM12,AP12,AS12,AV12,AY12,BB12)-MAX(R12,U12,X12,AA12,AD12,AG12,AJ12,AM12,AP12,AS12,AV12,AY12,BB12)-MIN(R12,U12,X12,AA12,AD12,AG12,AJ12,AM12,AP12,AS12,AV12,AY12,BB12))/(COUNT(R12,U12,X12,AA12,AD12,AG12,AJ12,AM12,AP12,AS12,AV12,AY12,BB12)-2) -> 230.705
A13: 10 | B13: ALIMENTAÇÃO E BEBIDAS | C13: Bebedouro | D13: Bebedouro, em regime de locação, para fornecimento de água mineral em garrafão de 20 litros, contendo 2 torneiras, sendo uma de água gelada e 1 de água natural. Voltagem 127/220V. OBSERVAÇÃO: O serviço deverá incluir todos os insumos e procedimentos necessários para garantir o adequado funcionamento e reposição de água durante o período do evento. Entregue, montado e pronto para uso com no mínimo 1 hora de antecedência. Ver item "Água mineral – Garrafão 20 litros". | E13: UNIDADE/DIÁRIA | F13: 570 | H13: 570 | K13: 10 | L13: =SUM(F13:K13) -> 1150 | M13: 120.06 | N13: =L13*M13 -> 138069 | O13: 328593 | P13: 570 | Q13: Não tem | S13: =R13*P13 -> 0 | T13: Não tem | V13: =U13*P13 -> 0 | W13: 580 | X13: 102.5 | Y13: =X13*P13 -> 58425 | Z13: 6.20 | AA13: 30 | AB13: =AA13*P13 -> 17100 | AC13: Não tem | AE13: =AD13*P13 -> 0 | AF13: 12 | AG13: 117 | AH13: =AG13*P13 -> 66690 | AI13: 99 | AJ13: 177.58 | AK13: =AJ13*P13 -> 101220.6 | AL13: 149 | AM13: 100.41 | AN13: =AM13*P13 -> 57233.7 | AO13: 4.3 | AP13: 40 | AQ13: =AP13*P13 -> 22800 | AR13: 10 | AS13: 133 | AT13: =AS13*P13 -> 75810 | AU13: 10 | AV13: 150 | AW13: =AV13*F13 -> 85500 | AX13: 10 | AY13: 140 | AZ13: =AY13*F13 -> 79800 | BA13: 10 | BB13: 242.33 | BC13: =BB13*F13 -> 138128.1 | BE13: =MIN(AP13,AM13,AJ13,AG13,AD13,AA13,X13,U13,R13,AS13,AV13,AY13,BB13) -> 30 | BF13: =AVERAGE(AP13,AM13,AJ13,AG13,AD13,AA13,X13,U13,R13,AS13,AV13,AY13,BB13) -> 123.282 | BG13: =MEDIAN(AP13,AM13,AJ13,AG13,AD13,AA13,X13,U13,R13,AS13,AV13,AY13,BB13) -> 125 | BH13: =MAX(AP13,AM13,AJ13,AG13,AD13,AA13,X13,U13,R13,AS13,AV13,AY13,BB13) -> 242.33 | BJ13: =BE13*$P13 -> 17100 | BK13: =BF13*$P13 -> 70270.74 | BL13: =BG13*$P13 -> 71250 | BM13: =(SUM(R13,U13,X13,AA13,AD13,AG13,AJ13,AM13,AP13,AS13,AV13,AY13,BB13)-MAX(R13,U13,X13,AA13,AD13,AG13,AJ13,AM13,AP13,AS13,AV13,AY13,BB13)-MIN(R13,U13,X13,AA13,AD13,AG13,AJ13,AM13,AP13,AS13,AV13,AY13,BB13))/(COUNT(R13,U13,X13,AA13,AD13,AG13,AJ13,AM13,AP13,AS13,AV13,AY13,BB13)-2) -> 120.06125
A14: 11 | B14: ALIMENTAÇÃO E BEBIDAS | C14: Café em garrafas térmicas de 2 litros | D14: Fornecimento de café acondicionado em garrafas térmicas, garantindo a adequada conservação da temperatura durante o período de serviço, conforme demanda e quantitativo definido pelo contratante. OBSERVAÇÃO: Prever xícaras e pires em louça ou copos descatáveis, compatíveis com as quantidades e necessidade do evento, sachês de açúcar, sachês de adoçantes, recipientes para os sachés e colheres, incluindo a mão de obra para a reposição de todos os materiais necessários para o funcionamento adequado do serviço. | E14: UNIDADE | F14: 2600 | H14: 350 | K14: 30 | L14: =SUM(F14:K14) -> 2980 | M14: 44.92 | N14: =L14*M14 -> 133861.6 | O14: 3697 | P14: 2600 | Q14: 162 | R14: 55 | S14: =R14*P14 -> 143000 | T14: 281 | U14: 18 | V14: =U14*P14 -> 46800 | W14: 582 | X14: 25 | Y14: =X14*P14 -> 65000 | Z14: 4.10 | AA14: 20 | AB14: =AA14*P14 -> 52000 | AC14: 128 | AD14: 25 | AE14: =AD14*P14 -> 65000 | AF14: 3 | AG14: 28 | AH14: =AG14*P14 -> 72800 | AI14: 95 | AJ14: 26.11 | AK14: =AJ14*P14 -> 67886 | AL14: Não tem | AN14: =AM14*P14 -> 0 | AO14: 4.9 | AP14: 28 | AQ14: =AP14*P14 -> 72800 | AR14: 11 | AS14: 53.2 | AT14: =AS14*P14 -> 138320 | AU14: 11 | AV14: 150 | AW14: =AV14*F14 -> 390000 | AX14: 11 | AY14: 100 | AZ14: =AY14*F14 -> 260000 | BA14: 11 | BB14: 88.85 | BC14: =BB14*F14 -> 231010 | BE14: =MIN(AP14,AM14,AJ14,AG14,AD14,AA14,X14,U14,R14,AS14,AV14,AY14,BB14) -> 18 | BF14: =AVERAGE(AP14,AM14,AJ14,AG14,AD14,AA14,X14,U14,R14,AS14,AV14,AY14,BB14) -> 51.43 | BG14: =MEDIAN(AP14,AM14,AJ14,AG14,AD14,AA14,X14,U14,R14,AS14,AV14,AY14,BB14) -> 28 | BH14: =MAX(AP14,AM14,AJ14,AG14,AD14,AA14,X14,U14,R14,AS14,AV14,AY14,BB14) -> 150 | BJ14: =BE14*$P14 -> 46800 | BK14: =BF14*$P14 -> 133718 | BL14: =BG14*$P14 -> 72800 | BM14: =(SUM(R14,U14,X14,AA14,AD14,AG14,AJ14,AM14,AP14,AS14,AV14,AY14,BB14)-MAX(R14,U14,X14,AA14,AD14,AG14,AJ14,AM14,AP14,AS14,AV14,AY14,BB14)-MIN(R14,U14,X14,AA14,AD14,AG14,AJ14,AM14,AP14,AS14,AV14,AY14,BB14))/(COUNT(R14,U14,X14,AA14,AD14,AG14,AJ14,AM14,AP14,AS14,AV14,AY14,BB14)-2) -> 44.916
A15: 12 | B15: ALIMENTAÇÃO E BEBIDAS | C15: Coffee break - Tipo 01 | D15: Cardápio mínimo: 10 variedades entre salgados, bolos, folhados, doces, biscoitos e frutas fatiadas, etc. Bebidas: café, opções de chá, água, chocolate quente, 2 opções de sucos naturais, 2 opções de refrigerante. OBSERVAÇÃO: O serviço deverá ter duração de 40 minutos, com todos os materiais necessários (pratos, copos, taças, talheres, bandejas, guardanapos, mobiliário e pessoal necessário). | E15: POR PESSOA | F15: 17500 | H15: 5000 | K15: 1200 | L15: =SUM(F15:K15) -> 23700 | M15: 54.66 | N15: =L15*M15 -> 1295442 | O15: 3697 | P15: 17500 | Q15: 180 | R15: 69.2 | S15: =R15*P15 -> 1211000 | T15: 283 | U15: 28 | V15: =U15*P15 -> 490000 | W15: 583 | X15: 40 | Y15: =X15*P15 -> 700000 | Z15: 4.6 | AA15: 28.5 | AB15: =AA15*P15 -> 498750 | AC15: 125 | AD15: 40 | AE15: =AD15*P15 -> 700000 | AF15: 5 | AG15: 30 | AH15: =AG15*P15 -> 525000 | AI15: Não tem | AK15: =AJ15*P15 -> 0 | AL15: Não tem | AN15: =AM15*P15 -> 0 | AO15: 4.7 | AP15: 32 | AQ15: =AP15*P15 -> 560000 | AR15: 12 | AS15: 81.2 | AT15: =AS15*P15 -> 1421000 | AU15: 12 | AV15: 89 | AW15: =AV15*F15 -> 1557500 | AX15: 12 | AY15: 82 | AZ15: =AY15*F15 -> 1435000 | BA15: 12 | BB15: 153.47 | BC15: =BB15*F15 -> 2685725 | BE15: =MIN(AP15,AM15,AJ15,AG15,AD15,AA15,X15,U15,R15,AS15,AV15,AY15,BB15) -> 28 | BF15: =AVERAGE(AP15,AM15,AJ15,AG15,AD15,AA15,X15,U15,R15,AS15,AV15,AY15,BB15) -> 61.215455 | BG15: =MEDIAN(AP15,AM15,AJ15,AG15,AD15,AA15,X15,U15,R15,AS15,AV15,AY15,BB15) -> 40 | BH15: =MAX(AP15,AM15,AJ15,AG15,AD15,AA15,X15,U15,R15,AS15,AV15,AY15,BB15) -> 153.47 | BJ15: =BE15*$P15 -> 490000 | BK15: =BF15*$P15 -> 1071270.5 | BL15: =BG15*$P15 -> 700000 | BM15: =(SUM(R15,U15,X15,AA15,AD15,AG15,AJ15,AM15,AP15,AS15,AV15,AY15,BB15)-MAX(R15,U15,X15,AA15,AD15,AG15,AJ15,AM15,AP15,AS15,AV15,AY15,BB15)-MIN(R15,U15,X15,AA15,AD15,AG15,AJ15,AM15,AP15,AS15,AV15,AY15,BB15))/(COUNT(R15,U15,X15,AA15,AD15,AG15,AJ15,AM15,AP15,AS15,AV15,AY15,BB15)-2) -> 54.655556
A16: 13 | B16: ALIMENTAÇÃO E BEBIDAS | C16: Coffee break - Tipo 02 | D16: Cardápio mínimo: 20 variedades entre salgados, bolos, tortas, folhados, doces, biscoitos, sanduíches, saladas de frutas e frutas fatiadas, etc. Bebidas: café, opções de chá, água mineral com e sem gás, chocolate quente, 2 opções de sucos naturais, 2 opções de refrigerante. OBSERVAÇÃO: O serviço deverá ter duração de 40 minutos, com todos os materiais necessários (pratos, copos, taças, talheres, bandejas, guardanapos, mobiliário e pessoal necessário). | E16: POR PESSOA | F16: 10000 | H16: 1500 | K16: 1200 | L16: =SUM(F16:K16) -> 12700 | M16: 121 | N16: =L16*M16 -> 1536700 | O16: 3697 | P16: 10000 | Q16: 181 | R16: 89 | S16: =R16*P16 -> 890000 | T16: Não tem | V16: =U16*P16 -> 0 | W16: Não tem | Y16: =X16*P16 -> 0 | Z16: Não tem | AB16: =AA16*P16 -> 0 | AC16: Não tem | AE16: =AD16*P16 -> 0 | AF16: Não tem | AH16: =AG16*P16 -> 0 | AI16: Não tem | AK16: =AJ16*P16 -> 0 | AL16: Não tem | AN16: =AM16*P16 -> 0 | AO16: Não tem | AQ16: =AP16*P16 -> 0 | AR16: 13 | AS16: 119 | AT16: =AS16*P16 -> 1190000 | AU16: 13 | AV16: 129 | AW16: =AV16*F16 -> 1290000 | AX16: 13 | AY16: 115 | AZ16: =AY16*F16 -> 1150000 | BA16: 13 | BB16: 226.17 | BC16: =BB16*F16 -> 2261700 | BE16: =MIN(AP16,AM16,AJ16,AG16,AD16,AA16,X16,U16,R16,AS16,AV16,AY16,BB16) -> 89 | BF16: =AVERAGE(AP16,AM16,AJ16,AG16,AD16,AA16,X16,U16,R16,AS16,AV16,AY16,BB16) -> 135.634 | BG16: =MEDIAN(AP16,AM16,AJ16,AG16,AD16,AA16,X16,U16,R16,AS16,AV16,AY16,BB16) -> 119 | BH16: =MAX(AP16,AM16,AJ16,AG16,AD16,AA16,X16,U16,R16,AS16,AV16,AY16,BB16) -> 226.17 | BJ16: =BE16*$P16 -> 890000 | BK16: =BF16*$P16 -> 1356340 | BL16: =BG16*$P16 -> 1190000 | BM16: =(SUM(R16,U16,X16,AA16,AD16,AG16,AJ16,AM16,AP16,AS16,AV16,AY16,BB16)-MAX(R16,U16,X16,AA16,AD16,AG16,AJ16,AM16,AP16,AS16,AV16,AY16,BB16)-MIN(R16,U16,X16,AA16,AD16,AG16,AJ16,AM16,AP16,AS16,AV16,AY16,BB16))/(COUNT(R16,U16,X16,AA16,AD16,AG16,AJ16,AM16,AP16,AS16,AV16,AY16,BB16)-2) -> 121
A17: 14 | B17: ALIMENTAÇÃO E BEBIDAS | C17: Copo descartável | D17: Copo descartável, material plástico, destinado ao consumo de água, sucos ou bebidas similares, fabricado em poliestireno (PS), polipropileno (PP) ou material equivalente, atóxico, inodoro e insípido, capacidade volumétrica nominal de 200 ml, na cor transparente ou branca, com estrutura reforçada, bordas arredondadas não cortantes, resistência compatível com o uso pretendido, fornecido em embalagem original do fabricante, devidamente lacrada, em conformidade com a ABNT NBR 14865 e com os Requisitos de Avaliação da Conformidade do Inmetro, quando aplicáveis. | E17: PACOTE (100 unidades) | F17: 1230 | K17: 100 | L17: =SUM(F17:K17) -> 1330 | M17: 12.01 | N17: =L17*M17 -> 15973.3 | O17: 629998 | P17: 1230 | Q17: Não tem | S17: =R17*P17 -> 0 | T17: 285 | U17: 3.33 | V17: =U17*P17 -> 4095.9 | W17: Não tem | Y17: =X17*P17 -> 0 | Z17: Não tem | AB17: =AA17*P17 -> 0 | AC17: Não tem | AE17: =AD17*P17 -> 0 | AF17: Não tem | AH17: =AG17*P17 -> 0 | AI17: 100 | AJ17: 5.22 | AK17: =AJ17*P17 -> 6420.6 | AL17: Não tem | AN17: =AM17*P17 -> 0 | AO17: Não tem | AQ17: =AP17*P17 -> 0 | AR17: 14 | AS17: 16.8 | AT17: =AS17*P17 -> 20664 | AU17: 14 | AV17: 12 | AW17: =AV17*F17 -> 14760 | AX17: 14 | AY17: 14 | AZ17: =AY17*F17 -> 17220 | BA17: 14 | BB17: 22.62 | BC17: =BB17*F17 -> 27822.6 | BE17: =MIN(AP17,AM17,AJ17,AG17,AD17,AA17,X17,U17,R17,AS17,AV17,AY17,BB17) -> 3.33 | BF17: =AVERAGE(AP17,AM17,AJ17,AG17,AD17,AA17,X17,U17,R17,AS17,AV17,AY17,BB17) -> 12.328333 | BG17: =MEDIAN(AP17,AM17,AJ17,AG17,AD17,AA17,X17,U17,R17,AS17,AV17,AY17,BB17) -> 13 | BH17: =MAX(AP17,AM17,AJ17,AG17,AD17,AA17,X17,U17,R17,AS17,AV17,AY17,BB17) -> 22.62 | BJ17: =BE17*$P17 -> 4095.9 | BK17: =BF17*$P17 -> 15163.85 | BL17: =BG17*$P17 -> 15990 | BM17: =(SUM(R17,U17,X17,AA17,AD17,AG17,AJ17,AM17,AP17,AS17,AV17,AY17,BB17)-MAX(R17,U17,X17,AA17,AD17,AG17,AJ17,AM17,AP17,AS17,AV17,AY17,BB17)-MIN(R17,U17,X17,AA17,AD17,AG17,AJ17,AM17,AP17,AS17,AV17,AY17,BB17))/(COUNT(R17,U17,X17,AA17,AD17,AG17,AJ17,AM17,AP17,AS17,AV17,AY17,BB17)-2) -> 12.005
A18: 15 | B18: ALIMENTAÇÃO E BEBIDAS | C18: Coquetel volante | D18: Cardápio mínimo: 2 opções de mini saladas, 10 opções de salgados quentes, 3 opções de salgados folheados, 3 opções de salgados doces; 3 (três) opções de canapés; 3 tipos de empratados; Bebidas: água mineral com e sem gás; 2 (duas) opções de refrigerantes (normal e zero); 2 opções de sucos naturais; 2 opções de coquetéis de frutas sem alcool ; mesa de café com 03 (três) tipos de petit four doce. OBSERVAÇÃO: O serviço deverá ter duração de, no mínimo, 2 (duas) horas a depender do tipo de evento, com todos os materiais necessários (pratos, copos, taças, talheres, bandejas, guardanapos, mobiliário e pessoal necessário) | E18: POR PESSOA | F18: 3000 | H18: 1500 | K18: 1200 | L18: =SUM(F18:K18) -> 5700 | M18: 125.7 | N18: =L18*M18 -> 716490 | O18: 12807 | P18: 3000 | Q18: Não tem | S18: =R18*P18 -> 0 | T18: 286 | U18: 90 | V18: =U18*P18 -> 270000 | W18: 592 | X18: 75 | Y18: =X18*P18 -> 225000 | Z18: 4.3 | AA18: 40 | AB18: =AA18*P18 -> 120000 | AC18: 127 | AD18: 70 | AE18: =AD18*P18 -> 210000 | AF18: 8 | AG18: 100 | AH18: =AG18*P18 -> 300000 | AI18: 94 | AJ18: 45.96 | AK18: =AJ18*P18 -> 137880 | AL18: Não tem | AN18: =AM18*P18 -> 0 | AO18: Não tem | AQ18: =AP18*P18 -> 0 | AR18: 15 | AS18: 175 | AT18: =AS18*P18 -> 525000 | AU18: 15 | AV18: 452 | AW18: =AV18*F18 -> 1356000 | AX18: 15 | AY18: 175 | AZ18: =AY18*F18 -> 525000 | BA18: 15 | BB18: 274.64 | BC18: =BB18*F18 -> 823920 | BE18: =MIN(AP18,AM18,AJ18,AG18,AD18,AA18,X18,U18,R18,AS18,AV18,AY18,BB18) -> 40 | BF18: =AVERAGE(AP18,AM18,AJ18,AG18,AD18,AA18,X18,U18,R18,AS18,AV18,AY18,BB18) -> 149.76 | BG18: =MEDIAN(AP18,AM18,AJ18,AG18,AD18,AA18,X18,U18,R18,AS18,AV18,AY18,BB18) -> 95 | BH18: =MAX(AP18,AM18,AJ18,AG18,AD18,AA18,X18,U18,R18,AS18,AV18,AY18,BB18) -> 452 | BJ18: =BE18*$P18 -> 120000 | BK18: =BF18*$P18 -> 449280 | BL18: =BG18*$P18 -> 285000 | BM18: =(SUM(R18,U18,X18,AA18,AD18,AG18,AJ18,AM18,AP18,AS18,AV18,AY18,BB18)-MAX(R18,U18,X18,AA18,AD18,AG18,AJ18,AM18,AP18,AS18,AV18,AY18,BB18)-MIN(R18,U18,X18,AA18,AD18,AG18,AJ18,AM18,AP18,AS18,AV18,AY18,BB18))/(COUNT(R18,U18,X18,AA18,AD18,AG18,AJ18,AM18,AP18,AS18,AV18,AY18,BB18)-2) -> 125.7
A19: 16 | B19: ALIMENTAÇÃO E BEBIDAS | C19: Kit lanche | D19: Kit de alimentação armazenado em embalagem prática, higiênica e ambientalmente aceitável. Contendo 01 fruta, 01 suco de fruta, 01 água, 1 barra de cereal e 2 sanduíches sem maionese ou 2 salgados grandes. OBSERVAÇÃO: Entregues conforme orientação do contratante. Todos devidamente embalados para viagem. Prever opções vegana, vegetariana ou diabética. | E19: POR PESSOA | F19: 3000 | H19: 3000 | K19: 1000 | L19: =SUM(F19:K19) -> 7000 | M19: 37.27 | N19: =L19*M19 -> 260890 | O19: 3697 | P19: 3000 | Q19: Não tem | S19: =R19*P19 -> 0 | T19: 287 | U19: 15 | V19: =U19*P19 -> 45000 | W19: Não tem | Y19: =X19*P19 -> 0 | Z19: 4.12 | AA19: 10 | AB19: =AA19*P19 -> 30000 | AC19: 129 | AD19: 20 | AE19: =AD19*P19 -> 60000 | AF19: Não tem | AH19: =AG19*P19 -> 0 | AI19: Não tem | AK19: =AJ19*P19 -> 0 | AL19: 100 | AM19: 3.48 | AN19: =AM19*P19 -> 10440 | AO19: 4.11 | AP19: 25 | AQ19: =AP19*P19 -> 75000 | AR19: 16 | AS19: 53.2 | AT19: =AS19*P19 -> 159600 | AU19: 16 | AV19: 79 | AW19: =AV19*F19 -> 237000 | AX19: 16 | AY19: 65 | AZ19: =AY19*F19 -> 195000 | BA19: 16 | BB19: 72.7 | BC19: =BB19*F19 -> 218100 | BE19: =MIN(AP19,AM19,AJ19,AG19,AD19,AA19,X19,U19,R19,AS19,AV19,AY19,BB19) -> 3.48 | BF19: =AVERAGE(AP19,AM19,AJ19,AG19,AD19,AA19,X19,U19,R19,AS19,AV19,AY19,BB19) -> 38.153333 | BG19: =MEDIAN(AP19,AM19,AJ19,AG19,AD19,AA19,X19,U19,R19,AS19,AV19,AY19,BB19) -> 25 | BH19: =MAX(AP19,AM19,AJ19,AG19,AD19,AA19,X19,U19,R19,AS19,AV19,AY19,BB19) -> 79 | BJ19: =BE19*$P19 -> 10440 | BK19: =BF19*$P19 -> 114460 | BL19: =BG19*$P19 -> 75000 | BM19: =(SUM(R19,U19,X19,AA19,AD19,AG19,AJ19,AM19,AP19,AS19,AV19,AY19,BB19)-MAX(R19,U19,X19,AA19,AD19,AG19,AJ19,AM19,AP19,AS19,AV19,AY19,BB19)-MIN(R19,U19,X19,AA19,AD19,AG19,AJ19,AM19,AP19,AS19,AV19,AY19,BB19))/(COUNT(R19,U19,X19,AA19,AD19,AG19,AJ19,AM19,AP19,AS19,AV19,AY19,BB19)-2) -> 37.271429
A20: 17 | B20: ALIMENTAÇÃO E BEBIDAS | C20: Máquina de café em cápsulas, com cápsulas e insumos | D20: Fornecimento de máquina de café em cápsulas, acompanhada de cápsulas sortidas e insumos: louça e/ou descartáveis de papel, açúcar, adoçante e mexedores e serviço de barista e/ou garçons. Prever 100 cápsulas por máquina, disposto em recipiente adequado. OBSERVAÇÃO: Ver item"Refil de cápsulas de café e insumos". | E20: UNIDADE/DIÁRIA | F20: 60 | H20: 20 | K20: 20 | L20: =SUM(F20:K20) -> 100 | M20: 500.67 | N20: =L20*M20 -> 50067 | O20: 20648 | P20: 60 | Q20: Não tem | S20: =R20*P20 -> 0 | T20: Não tem | V20: =U20*P20 -> 0 | W20: Não tem | Y20: =X20*P20 -> 0 | Z20: Não tem | AB20: =AA20*P20 -> 0 | AC20: Não tem | AE20: =AD20*P20 -> 0 | AF20: Não tem | AH20: =AG20*P20 -> 0 | AI20: Não tem | AK20: =AJ20*P20 -> 0 | AL20: 109 | AM20: 214.41 | AN20: =AM20*P20 -> 12864.6 | AO20: Não tem | AQ20: =AP20*P20 -> 0 | AR20: 17 | AS20: 252 | AT20: =AS20*P20 -> 15120 | AU20: 17 | AV20: 1000 | AW20: =AV20*F20 -> 60000 | AX20: 17 | AY20: 250 | AZ20: =AY20*F20 -> 15000 | BA20: 17 | BB20: 4846.53 | BC20: =BB20*F20 -> 290791.8 | BE20: =MIN(AP20,AM20,AJ20,AG20,AD20,AA20,X20,U20,R20,AS20,AV20,AY20,BB20) -> 214.41 | BF20: =AVERAGE(AP20,AM20,AJ20,AG20,AD20,AA20,X20,U20,R20,AS20,AV20,AY20,BB20) -> 1312.588 | BG20: =MEDIAN(AP20,AM20,AJ20,AG20,AD20,AA20,X20,U20,R20,AS20,AV20,AY20,BB20) -> 252 | BH20: =MAX(AP20,AM20,AJ20,AG20,AD20,AA20,X20,U20,R20,AS20,AV20,AY20,BB20) -> 4846.53 | BJ20: =BE20*$P20 -> 12864.6 | BK20: =BF20*$P20 -> 78755.28 | BL20: =BG20*$P20 -> 15120 | BM20: =(SUM(R20,U20,X20,AA20,AD20,AG20,AJ20,AM20,AP20,AS20,AV20,AY20,BB20)-MAX(R20,U20,X20,AA20,AD20,AG20,AJ20,AM20,AP20,AS20,AV20,AY20,BB20)-MIN(R20,U20,X20,AA20,AD20,AG20,AJ20,AM20,AP20,AS20,AV20,AY20,BB20))/(COUNT(R20,U20,X20,AA20,AD20,AG20,AJ20,AM20,AP20,AS20,AV20,AY20,BB20)-2) -> 500.66667
A21: 18 | B21: ALIMENTAÇÃO E BEBIDAS | C21: Máquina de café expresso, cappuccino e chocolate quente com operador | D21: Fornecimento de máquina automática para preparo de café expresso, cappuccino e chocolate quente, com franquia mínima de 300 doses diárias, incluindo todos os suprimentos necessários para operação, tais como café, chocolate, cappuccino, copos descartáveis, bastonetes, açúcar e adoçante. OBSERVAÇÃO: O serviço deverá contemplar também a disponibilização de operador em regime integral (full time) durante o período de funcionamento do equipamento. | E21: UNIDADE/DIÁRIA | F21: 30 | K21: 20 | L21: =SUM(F21:K21) -> 50 | M21: 1125 | N21: =L21*M21 -> 56250 | O21: 20648 | P21: 30 | Q21: Não tem | S21: =R21*P21 -> 0 | T21: Não tem | V21: =U21*P21 -> 0 | W21: Não tem | Y21: =X21*P21 -> 0 | Z21: Não tem | AB21: =AA21*P21 -> 0 | AC21: Não tem | AE21: =AD21*P21 -> 0 | AF21: Não tem | AH21: =AG21*P21 -> 0 | AI21: Não tem | AK21: =AJ21*P21 -> 0 | AL21: Não tem | AN21: =AM21*P21 -> 0 | AO21: Não tem | AQ21: =AP21*P21 -> 0 | AR21: 18 | AS21: 910 | AT21: =AS21*P21 -> 27300 | AU21: 18 | AV21: 1200 | AW21: =AV21*F21 -> 36000 | AX21: 18 | AY21: 1050 | AZ21: =AY21*F21 -> 31500 | BA21: 18 | BB21: 4846.53 | BC21: =BB21*F21 -> 145395.9 | BE21: =MIN(AP21,AM21,AJ21,AG21,AD21,AA21,X21,U21,R21,AS21,AV21,AY21,BB21) -> 910 | BF21: =AVERAGE(AP21,AM21,AJ21,AG21,AD21,AA21,X21,U21,R21,AS21,AV21,AY21,BB21) -> 2001.6325 | BG21: =MEDIAN(AP21,AM21,AJ21,AG21,AD21,AA21,X21,U21,R21,AS21,AV21,AY21,BB21) -> 1125 | BH21: =MAX(AP21,AM21,AJ21,AG21,AD21,AA21,X21,U21,R21,AS21,AV21,AY21,BB21) -> 4846.53 | BJ21: =BE21*$P21 -> 27300 | BK21: =BF21*$P21 -> 60048.975 | BL21: =BG21*$P21 -> 33750 | BM21: =(SUM(R21,U21,X21,AA21,AD21,AG21,AJ21,AM21,AP21,AS21,AV21,AY21,BB21)-MAX(R21,U21,X21,AA21,AD21,AG21,AJ21,AM21,AP21,AS21,AV21,AY21,BB21)-MIN(R21,U21,X21,AA21,AD21,AG21,AJ21,AM21,AP21,AS21,AV21,AY21,BB21))/(COUNT(R21,U21,X21,AA21,AD21,AG21,AJ21,AM21,AP21,AS21,AV21,AY21,BB21)-2) -> 1125
A22: 19 | B22: ALIMENTAÇÃO E BEBIDAS | C22: Petit four | D22: Fornecimento de petit four composto por : 5 opções entre biscoitos finos (salgados e doces), pão de queijo, biscoito de queijo, petinha, casadinhos de goiabada, sequilhos, frutas laminadas ou salada de frutas. Água, café e chás. OBSERVAÇÃO: Prever todos os materiais necessários (pratos, copos, taças, talheres, bandejas, guardanapos, rechauds, mobiliário e pessoal necessário). | E22: POR PESSOA | F22: 10000 | H22: 1000 | K22: 500 | L22: =SUM(F22:K22) -> 11500 | M22: 58.56 | N22: =L22*M22 -> 673440 | O22: 12807 | P22: 10000 | Q22: 185 | R22: 90 | S22: =R22*P22 -> 900000 | T22: 289 | U22: 20 | V22: =U22*P22 -> 200000 | W22: Não tem | Y22: =X22*P22 -> 0 | Z22: 4.7 | AA22: 15 | AB22: =AA22*P22 -> 150000 | AC22: 130 | AD22: 23 | AE22: =AD22*P22 -> 230000 | AF22: 9 | AG22: 34 | AH22: =AG22*P22 -> 340000 | AI22: Não tem | AK22: =AJ22*P22 -> 0 | AL22: 104 | AM22: 6.96 | AN22: =AM22*P22 -> 69600 | AO22: 4.10 | AP22: 31 | AQ22: =AP22*P22 -> 310000 | AR22: 19 | AS22: 49 | AT22: =AS22*P22 -> 490000 | AU22: 19 | AV22: 200 | AW22: =AV22*F22 -> 2000000 | AX22: 19 | AY22: 65 | AZ22: =AY22*F22 -> 650000 | BA22: 19 | BB22: 403.88 | BC22: =BB22*F22 -> 4038800 | BE22: =MIN(AP22,AM22,AJ22,AG22,AD22,AA22,X22,U22,R22,AS22,AV22,AY22,BB22) -> 6.96 | BF22: =AVERAGE(AP22,AM22,AJ22,AG22,AD22,AA22,X22,U22,R22,AS22,AV22,AY22,BB22) -> 85.258182 | BG22: =MEDIAN(AP22,AM22,AJ22,AG22,AD22,AA22,X22,U22,R22,AS22,AV22,AY22,BB22) -> 34 | BH22: =MAX(AP22,AM22,AJ22,AG22,AD22,AA22,X22,U22,R22,AS22,AV22,AY22,BB22) -> 403.88 | BJ22: =BE22*$P22 -> 69600 | BK22: =BF22*$P22 -> 852581.82 | BL22: =BG22*$P22 -> 340000 | BM22: =(SUM(R22,U22,X22,AA22,AD22,AG22,AJ22,AM22,AP22,AS22,AV22,AY22,BB22)-MAX(R22,U22,X22,AA22,AD22,AG22,AJ22,AM22,AP22,AS22,AV22,AY22,BB22)-MIN(R22,U22,X22,AA22,AD22,AG22,AJ22,AM22,AP22,AS22,AV22,AY22,BB22))/(COUNT(R22,U22,X22,AA22,AD22,AG22,AJ22,AM22,AP22,AS22,AV22,AY22,BB22)-2) -> 58.555556
A23: 20 | B23: ALIMENTAÇÃO E BEBIDAS | C23: Refil de cápsulas de café e insumos | D23: Refil de cápsulas sortidas e insumos. Quantidade: 50 cápsulas. | E23: UNIDADE | F23: 30 | H23: 50 | K23: 10 | L23: =SUM(F23:K23) -> 90 | M23: 311.23 | N23: =L23*M23 -> 28010.7 | O23: 20648 | P23: 30 | Q23: Não tem | S23: =R23*P23 -> 0 | T23: Não tem | V23: =U23*P23 -> 0 | W23: Não tem | Y23: =X23*P23 -> 0 | Z23: Não tem | AB23: =AA23*P23 -> 0 | AC23: Não tem | AE23: =AD23*P23 -> 0 | AF23: Não tem | AH23: =AG23*P23 -> 0 | AI23: Não tem | AK23: =AJ23*P23 -> 0 | AL23: 110 | AM23: 179.8 | AN23: =AM23*P23 -> 5394 | AO23: Não tem | AQ23: =AP23*P23 -> 0 | AR23: 20 | AS23: 1190 | AT23: =AS23*P23 -> 35700 | AU23: 20 | AV23: 54 | AW23: =AV23*F23 -> 1620 | AX23: 20 | AY23: 350 | AZ23: =AY23*F23 -> 10500 | BA23: 20 | BB23: 403.88 | BC23: =BB23*F23 -> 12116.4 | BE23: =MIN(AP23,AM23,AJ23,AG23,AD23,AA23,X23,U23,R23,AS23,AV23,AY23,BB23) -> 54 | BF23: =AVERAGE(AP23,AM23,AJ23,AG23,AD23,AA23,X23,U23,R23,AS23,AV23,AY23,BB23) -> 435.536 | BG23: =MEDIAN(AP23,AM23,AJ23,AG23,AD23,AA23,X23,U23,R23,AS23,AV23,AY23,BB23) -> 350 | BH23: =MAX(AP23,AM23,AJ23,AG23,AD23,AA23,X23,U23,R23,AS23,AV23,AY23,BB23) -> 1190 | BJ23: =BE23*$P23 -> 1620 | BK23: =BF23*$P23 -> 13066.08 | BL23: =BG23*$P23 -> 10500 | BM23: =(SUM(R23,U23,X23,AA23,AD23,AG23,AJ23,AM23,AP23,AS23,AV23,AY23,BB23)-MAX(R23,U23,X23,AA23,AD23,AG23,AJ23,AM23,AP23,AS23,AV23,AY23,BB23)-MIN(R23,U23,X23,AA23,AD23,AG23,AJ23,AM23,AP23,AS23,AV23,AY23,BB23))/(COUNT(R23,U23,X23,AA23,AD23,AG23,AJ23,AM23,AP23,AS23,AV23,AY23,BB23)-2) -> 311.22667
D24: TOTAL - ALIMENTAÇÃO E BEBIDAS | N24: =SUM(N4:N23) -> 7870940.2 | BJ24: =SUM(BJ4:BJ23) -> 2335465.5 | BK24: =SUM(BK4:BK23) -> 5688590.2 | BL24: =SUM(BL4:BL23) -> 4102318
D25: GRUPO II - INSTALAÇÕES
A26: 21 | B26: INSTALAÇÕES | C26: Carpete | D26: Carpete para revestimento de pisos em ambientes de eventos, disponível em diversas cores, adequado para cobertura de áreas internas ou externas temporárias. OBSERVAÇÃO: O serviço deverá incluir fornecimento do material, transporte, instalação, fixação e desmontagem após o término do evento. | E26: METROS QUADRADOS | F26: 15000 | H26: 8000 | J26: 500 | K26: 500 | L26: =SUM(F26:K26) -> 24000 | M26: 54.93 | N26: =L26*M26 -> 1318320 | O26: 4413 | P26: 15000 | Q26: Não tem | S26: =R26*P26 -> 0 | T26: Não tem | V26: =U26*P26 -> 0 | W26: 636 | X26: 42.5 | Y26: =X26*P26 -> 637500 | Z26: Não tem | AB26: =AA26*P26 -> 0 | AC26: Não tem | AE26: =AD26*P26 -> 0 | AF26: Não tem | AH26: =AG26*P26 -> 0 | AI26: Não tem | AK26: =AJ26*P26 -> 0 | AL26: 223 | AM26: 13.34 | AN26: =AM26*P26 -> 200100 | AO26: Não tem | AQ26: =AP26*P26 -> 0 | AR26: 21 | AS26: 53.2 | AT26: =AS26*P26 -> 798000 | AU26: 21 | AV26: 65 | AW26: =AV26*F26 -> 975000 | AX26: 21 | AY26: 59 | AZ26: =AY26*F26 -> 885000 | BA26: 21 | BB26: 88.85 | BC26: =BB26*F26 -> 1332750 | BE26: =MIN(AP26,AM26,AJ26,AG26,AD26,AA26,X26,U26,R26,AS26,AV26,AY26,BB26) -> 13.34 | BF26: =AVERAGE(AP26,AM26,AJ26,AG26,AD26,AA26,X26,U26,R26,AS26,AV26,AY26,BB26) -> 53.648333 | BG26: =MEDIAN(AP26,AM26,AJ26,AG26,AD26,AA26,X26,U26,R26,AS26,AV26,AY26,BB26) -> 56.1 | BH26: =MAX(AP26,AM26,AJ26,AG26,AD26,AA26,X26,U26,R26,AS26,AV26,AY26,BB26) -> 88.85 | BJ26: =BE26*$P26 -> 200100 | BK26: =BF26*$P26 -> 804725 | BL26: =BG26*$P26 -> 841500 | BM26: =(SUM(R26,U26,X26,AA26,AD26,AG26,AJ26,AM26,AP26,AS26,AV26,AY26,BB26)-MAX(R26,U26,X26,AA26,AD26,AG26,AJ26,AM26,AP26,AS26,AV26,AY26,BB26)-MIN(R26,U26,X26,AA26,AD26,AG26,AJ26,AM26,AP26,AS26,AV26,AY26,BB26))/(COUNT(R26,U26,X26,AA26,AD26,AG26,AJ26,AM26,AP26,AS26,AV26,AY26,BB26)-2) -> 54.925
A27: 22 | B27: INSTALAÇÕES | C27: Estande - Montagem especial | D27: Estande especial para ambientes internos, desenvolvido a partir de projeto arquitetônico personalizado, elaborado com base em briefing fornecido pelo contratante. Estrutura construída em madeira, vidro, lona ou materiais equivalentes, podendo contemplar divisórias internas, teto ou cobertura, portas com chave, testeiras, piso elevado, comunicação visual personalizada e elementos de ambientação. O estande poderá incluir infraestrutura completa com pontos de energia elétrica embutidos e extensões conforme normas de segurança vigentes, iluminação com spots embutidos e refletores compatíveis, sistemas de climatização com ar-condicionado tipo split, além de instalações hidráulicas quando necessário, como pontos de água, esgoto, pia de banheiro ou cozinha, vaso sanitário, geladeira ou frigobar. Deverá contemplar itens de ambientação como balcões construídos e outros elementos definidos no projeto. O espaço deverá ser adaptado para acessibilidade, incluindo rampas sinalizadas e circulação adequada para pessoas com deficiência. O pé-direito mínimo deverá ser de 4 metros, com piso elevado em estrutura de madeira ou similar, podendo receber iluminação ou revestimento conforme o projeto aprovado. O projeto deverá observar as normas técnicas aplicáveis, incluindo a ABNT NBR 9050:2015 (acessibilidade), e deverá ser acompanhado de Anotação de Responsabilidade Técnica (ART). OBSERVAÇÃO: Estão incluídos todos os custos operacionais necessários para execução do estande, tais como projeto, transporte de materiais, montagem, manutenção e desmontagem e demais encargos da montadora. Quando exigido pelo local ou pela organização do evento, deverá ser apresentado também o PPCI – Plano de Prevenção e Proteção Contra Incêndios. | E27: METROS QUADRADOS/DIÁRIA | F27: 500 | H27: 250 | K27: 100 | L27: =SUM(F27:K27) -> 850 | M27: 753.24 | N27: =L27*M27 -> 640254 | O27: 13099 | P27: 500 | Q27: Não tem | S27: =R27*P27 -> 0 | T27: 225 | U27: 120 | V27: =U27*P27 -> 60000 | W27: 618 | X27: 185 | Y27: =X27*P27 -> 92500 | Z27: Não tem | AB27: =AA27*P27 -> 0 | AC27: 12 | AD27: 98 | AE27: =AD27*P27 -> 49000 | AF27: Não tem | AH27: =AG27*P27 -> 0 | AI27: Não tem | AK27: =AJ27*P27 -> 0 | AL27: Não tem | AN27: =AM27*P27 -> 0 | AO27: Não tem | AQ27: =AP27*P27 -> 0 | AR27: 22 | AS27: 588 | AT27: =AS27*P27 -> 294000 | AU27: 22 | AV27: 2500 | AW27: =AV27*F27 -> 1250000 | AX27: 22 | AY27: 1500 | AZ27: =AY27*F27 -> 750000 | BA27: 22 | BB27: 1373.18 | BC27: =BB27*F27 -> 686590 | BE27: =MIN(AP27,AM27,AJ27,AG27,AD27,AA27,X27,U27,R27,AS27,AV27,AY27,BB27) -> 98 | BF27: =AVERAGE(AP27,AM27,AJ27,AG27,AD27,AA27,X27,U27,R27,AS27,AV27,AY27,BB27) -> 909.16857 | BG27: =MEDIAN(AP27,AM27,AJ27,AG27,AD27,AA27,X27,U27,R27,AS27,AV27,AY27,BB27) -> 588 | BH27: =MAX(AP27,AM27,AJ27,AG27,AD27,AA27,X27,U27,R27,AS27,AV27,AY27,BB27) -> 2500 | BJ27: =BE27*$P27 -> 49000 | BK27: =BF27*$P27 -> 454584.29 | BL27: =BG27*$P27 -> 294000 | BM27: =(SUM(R27,U27,X27,AA27,AD27,AG27,AJ27,AM27,AP27,AS27,AV27,AY27,BB27)-MAX(R27,U27,X27,AA27,AD27,AG27,AJ27,AM27,AP27,AS27,AV27,AY27,BB27)-MIN(R27,U27,X27,AA27,AD27,AG27,AJ27,AM27,AP27,AS27,AV27,AY27,BB27))/(COUNT(R27,U27,X27,AA27,AD27,AG27,AJ27,AM27,AP27,AS27,AV27,AY27,BB27)-2) -> 753.236
A28: 23 | B28: INSTALAÇÕES | C28: Estande - Montagem simples | D28: Estande para ambientes internos desenvolvido a partir de projeto arquitetônico personalizado, conforme briefing fornecido pelo contratante. Estrutura construída em sistema modular tipo octanorme, podendo contemplar fechamento em painéis, vidro ou BS, paredes e teto adesivados conforme identidade visual do evento. Pé-direito mínimo de 2,5 m, com iluminação adequada e instalação de equipamentos como ar-condicionado tipo split, geladeira ou frigobar para apoio operacional do estande. Deverá incluir pontos de energia elétrica e extensões conforme normas de segurança vigentes, piso elevado em estrutura de madeira com acabamento em carpete ou outro revestimento definido no projeto, além de rampas sinalizadas garantindo acessibilidade para pessoas com deficiência. O projeto deverá ser previamente apresentado para aprovação do contratante e acompanhado de Anotação de Responsabilidade Técnica (ART). OBSERVAÇÃO: Estão incluídos todos os custos operacionais necessários para execução do estande, tais como projeto, transporte de materiais, montagem, manutenção e desmontagem e demais encargos da montadora. Quando exigido pelo local ou pela organização do evento, deverá ser apresentado também o PPCI – Plano de Prevenção e Proteção Contra Incêndios. | E28: METROS QUADRADOS/DIÁRIA | F28: 1000 | H28: 1000 | K28: 300 | L28: =SUM(F28:K28) -> 2300 | M28: 398.14 | N28: =L28*M28 -> 915722 | O28: 13099 | P28: 1000 | Q28: Não tem | S28: =R28*P28 -> 0 | T28: 224 | U28: 60 | V28: =U28*P28 -> 60000 | W28: 618 | X28: 185 | Y28: =X28*P28 -> 185000 | Z28: 6.3 | AA28: 50 | AB28: =AA28*P28 -> 50000 | AC28: 11 | AD28: 42 | AE28: =AD28*P28 -> 42000 | AF28: Não tem | AH28: =AG28*P28 -> 0 | AI28: Não tem | AK28: =AJ28*P28 -> 0 | AL28: Não tem | AN28: =AM28*P28 -> 0 | AO28: 6.19 | AP28: 110 | AQ28: =AP28*P28 -> 110000 | AR28: 23 | AS28: 392 | AT28: =AS28*P28 -> 392000 | AU28: 23 | AV28: 1200 | AW28: =AV28*F28 -> 1200000 | AX28: 23 | AY28: 790 | AZ28: =AY28*F28 -> 790000 | BA28: 23 | BB28: 1373.18 | BC28: =BB28*F28 -> 1373180 | BE28: =MIN(AP28,AM28,AJ28,AG28,AD28,AA28,X28,U28,R28,AS28,AV28,AY28,BB28) -> 42 | BF28: =AVERAGE(AP28,AM28,AJ28,AG28,AD28,AA28,X28,U28,R28,AS28,AV28,AY28,BB28) -> 466.90889 | BG28: =MEDIAN(AP28,AM28,AJ28,AG28,AD28,AA28,X28,U28,R28,AS28,AV28,AY28,BB28) -> 185 | BH28: =MAX(AP28,AM28,AJ28,AG28,AD28,AA28,X28,U28,R28,AS28,AV28,AY28,BB28) -> 1373.18 | BJ28: =BE28*$P28 -> 42000 | BK28: =BF28*$P28 -> 466908.89 | BL28: =BG28*$P28 -> 185000 | BM28: =(SUM(R28,U28,X28,AA28,AD28,AG28,AJ28,AM28,AP28,AS28,AV28,AY28,BB28)-MAX(R28,U28,X28,AA28,AD28,AG28,AJ28,AM28,AP28,AS28,AV28,AY28,BB28)-MIN(R28,U28,X28,AA28,AD28,AG28,AJ28,AM28,AP28,AS28,AV28,AY28,BB28))/(COUNT(R28,U28,X28,AA28,AD28,AG28,AJ28,AM28,AP28,AS28,AV28,AY28,BB28)-2) -> 398.14286
A29: 24 | B29: INSTALAÇÕES | C29: Estrutura básica OCTANORM | D29: Montagem de estrutura básica em OCTANORM com Iluminação e pontos de energia dentro dos padrões de segurança nacionais, com testeira e teto pergolado, piso carpete. OBSERVAÇÃO: Estão incluídos todos os custos operacionais necessários para execução do estande, tais como projeto, transporte de materiais, montagem, manutenção e desmontagem e demais encargos da montadora. Quando exigido pelo local ou pela organização do evento, deverá ser apresentado também o PPCI – Plano de Prevenção e Proteção Contra Incêndios. | E29: METROS QUADRADOS/DIÁRIA | F29: 500 | G29: 15 | H29: 200 | K29: 100 | L29: =SUM(F29:K29) -> 815 | M29: 396.47 | N29: =L29*M29 -> 323123.05 | O29: 13099 | P29: 500 | Q29: Não tem | S29: =R29*P29 -> 0 | T29: Não tem | V29: =U29*P29 -> 0 | W29: Não tem | Y29: =X29*P29 -> 0 | Z29: Não tem | AB29: =AA29*P29 -> 0 | AC29: 17 | AD29: 50 | AE29: =AD29*P29 -> 25000 | AF29: Não tem | AH29: =AG29*P29 -> 0 | AI29: Não tem | AK29: =AJ29*P29 -> 0 | AL29: Não tem | AN29: =AM29*P29 -> 0 | AO29: Não tem | AQ29: =AP29*P29 -> 0 | AR29: 24 | AS29: 294 | AT29: =AS29*P29 -> 147000 | AU29: 24 | AV29: 800 | AW29: =AV29*F29 -> 400000 | AX29: 24 | AY29: 540 | AZ29: =AY29*F29 -> 270000 | BA29: 24 | BB29: 355.41 | BC29: =BB29*F29 -> 177705 | BE29: =MIN(AP29,AM29,AJ29,AG29,AD29,AA29,X29,U29,R29,AS29,AV29,AY29,BB29) -> 50 | BF29: =AVERAGE(AP29,AM29,AJ29,AG29,AD29,AA29,X29,U29,R29,AS29,AV29,AY29,BB29) -> 407.882 | BG29: =MEDIAN(AP29,AM29,AJ29,AG29,AD29,AA29,X29,U29,R29,AS29,AV29,AY29,BB29) -> 355.41 | BH29: =MAX(AP29,AM29,AJ29,AG29,AD29,AA29,X29,U29,R29,AS29,AV29,AY29,BB29) -> 800 | BJ29: =BE29*$P29 -> 25000 | BK29: =BF29*$P29 -> 203941 | BL29: =BG29*$P29 -> 177705 | BM29: =(SUM(R29,U29,X29,AA29,AD29,AG29,AJ29,AM29,AP29,AS29,AV29,AY29,BB29)-MAX(R29,U29,X29,AA29,AD29,AG29,AJ29,AM29,AP29,AS29,AV29,AY29,BB29)-MIN(R29,U29,X29,AA29,AD29,AG29,AJ29,AM29,AP29,AS29,AV29,AY29,BB29))/(COUNT(R29,U29,X29,AA29,AD29,AG29,AJ29,AM29,AP29,AS29,AV29,AY29,BB29)-2) -> 396.47
A30: 25 | B30: INSTALAÇÕES | C30: Fechamento para tenda em lona | D30: Fechamento para tenda, confeccionado em lona impermeável, antichama e com tratamento blackout, estruturado em perfil de alumínio. OBSERVAÇÃO: O serviço deverá incluir transporte, montagem, instalação e desmontagem, garantindo vedação, estabilidade e adequação às condições de uso do evento. | E30: METROS QUADRADOS/DIÁRIA | F30: 3450 | H30: 3450 | K30: 500 | L30: =SUM(F30:K30) -> 7400 | M30: 88.44 | N30: =L30*M30 -> 654456 | O30: 21164 | P30: 3450 | Q30: Não tem | S30: =R30*P30 -> 0 | T30: 227 | U30: 15.1 | V30: =U30*P30 -> 52095 | W30: 667 | X30: 22.3 | Y30: =X30*P30 -> 76935 | Z30: Não tem | AB30: =AA30*P30 -> 0 | AC30: Não tem | AE30: =AD30*P30 -> 0 | AF30: Não tem | AH30: =AG30*P30 -> 0 | AI30: Não tem | AK30: =AJ30*P30 -> 0 | AL30: 236 | AM30: 12.18 | AN30: =AM30*P30 -> 42021 | AO30: Não tem | AQ30: =AP30*P30 -> 0 | AR30: 25 | AS30: 84 | AT30: =AS30*P30 -> 289800 | AU30: 25 | AV30: 400 | AW30: =AV30*F30 -> 1380000 | AX30: 25 | AY30: 240 | AZ30: =AY30*F30 -> 828000 | BA30: 25 | BB30: 80.78 | BC30: =BB30*F30 -> 278691 | BE30: =MIN(AP30,AM30,AJ30,AG30,AD30,AA30,X30,U30,R30,AS30,AV30,AY30,BB30) -> 12.18 | BF30: =AVERAGE(AP30,AM30,AJ30,AG30,AD30,AA30,X30,U30,R30,AS30,AV30,AY30,BB30) -> 122.05143 | BG30: =MEDIAN(AP30,AM30,AJ30,AG30,AD30,AA30,X30,U30,R30,AS30,AV30,AY30,BB30) -> 80.78 | BH30: =MAX(AP30,AM30,AJ30,AG30,AD30,AA30,X30,U30,R30,AS30,AV30,AY30,BB30) -> 400 | BJ30: =BE30*$P30 -> 42021 | BK30: =BF30*$P30 -> 421077.43 | BL30: =BG30*$P30 -> 278691 | BM30: =(SUM(R30,U30,X30,AA30,AD30,AG30,AJ30,AM30,AP30,AS30,AV30,AY30,BB30)-MAX(R30,U30,X30,AA30,AD30,AG30,AJ30,AM30,AP30,AS30,AV30,AY30,BB30)-MIN(R30,U30,X30,AA30,AD30,AG30,AJ30,AM30,AP30,AS30,AV30,AY30,BB30))/(COUNT(R30,U30,X30,AA30,AD30,AG30,AJ30,AM30,AP30,AS30,AV30,AY30,BB30)-2) -> 88.436
